BEGIN:VCALENDAR
VERSION:2.0
PRODID:-//YourAppName//NONSGML v1.0//EN
BEGIN:VEVENT
UID:69e79e490c43d@yourapp.com
DTSTAMP:20260421T155657Z
TZID:UTC
DTSTART;TZID=UTC:20250213T180000
DTEND;TZID=UTC:20250213T190000
SUMMARY:A.G. annuelle Koru Conseil
DESCRIPTION:## Ordre du jour :
- Rapport moral
- Rapport financier
- Prévisions 2025\n\nLien de la visioconférence : https://teams.microsoft.com/l/meetup-join/19%3ameeting_OWJjYjRlZTMtMjg0MC00N2MyLWE4YjUtODA2YjQ1YjI0ZGYw%40thread.v2/0?context=%7b%22Tid%22%3a%229fb510eb-f4c0-4e4d-8dc2-4c2aeeddde2d%22%2c%22Oid%22%3a%22ff13904b-5746-4a90-adcc-9dbebf107ebe%22%7d
LOCATION:https://teams.microsoft.com/l/meetup-join/19%3ameeting_OWJjYjRlZTMtMjg0MC00N2MyLWE4YjUtODA2YjQ1YjI0ZGYw%40thread.v2/0?context=%7b%22Tid%22%3a%229fb510eb-f4c0-4e4d-8dc2-4c2aeeddde2d%22%2c%22Oid%22%3a%22ff13904b-5746-4a90-adcc-9dbebf107ebe%22%7d
END:VEVENT
END:VCALENDAR
