BEGIN:VCALENDAR
VERSION:2.0
PRODID:-//YourAppName//NONSGML v1.0//EN
BEGIN:VEVENT
UID:69e79c6ba8b66@yourapp.com
DTSTAMP:20260421T154859Z
TZID:UTC
DTSTART;TZID=UTC:20250617T153000
DTEND;TZID=UTC:20250617T163000
SUMMARY:Vers une harmonie des communs : repenser justice, équité, éthique et bienveillance
DESCRIPTION:**Pourquoi jugeons-nous ? Selon quelle norme ? Et dans quelle intention ?**

Cette rencontre explorera ce qui relie — ou distingue — la justice, l’équité, l’éthique et la bienveillance.
De la dikaia grecque à la ren chinoise, du dharma indien à la ʿadāla arabe, toutes les cultures ont cherché une forme d’équilibre moral pour que les humains vivent ensemble sans s’anéantir.

Mais ces principes ne sont pas toujours compatibles.
L’équité conteste parfois la loi, l’éthique s’écarte de la règle, et la bienveillance semble à rebours des logiques punitives.
Alors, faut-il les hiérarchiser, les concilier ou les choisir selon les circonstances ?

Nous nous demanderons :
– Comment ces concepts structurent-ils notre perception de ce qui est « juste » ?
– Qu’est-ce qui fait autorité : la norme, l’intention ou la relation ?
– Peut-on imaginer une harmonie des communs où ces principes coexistent sans se détruire ?\n\nLien de la visioconférence : https://teams.microsoft.com/l/meetup-join/19%3ameeting_ZmY1NmEzZjQtNTZmZS00MWRiLTg5NTEtYzFhYzBjNGJhNzgy%40thread.v2/0?context=%7b%22Tid%22%3a%229fb510eb-f4c0-4e4d-8dc2-4c2aeeddde2d%22%2c%22Oid%22%3a%22ff13904b-5746-4a90-adcc-9dbebf107ebe%22%7d
LOCATION:https://teams.microsoft.com/l/meetup-join/19%3ameeting_ZmY1NmEzZjQtNTZmZS00MWRiLTg5NTEtYzFhYzBjNGJhNzgy%40thread.v2/0?context=%7b%22Tid%22%3a%229fb510eb-f4c0-4e4d-8dc2-4c2aeeddde2d%22%2c%22Oid%22%3a%22ff13904b-5746-4a90-adcc-9dbebf107ebe%22%7d
END:VEVENT
END:VCALENDAR
