BEGIN:VCALENDAR
VERSION:2.0
PRODID:-//YourAppName//NONSGML v1.0//EN
BEGIN:VEVENT
UID:69e79f2620d2c@yourapp.com
DTSTAMP:20260421T160038Z
TZID:UTC
DTSTART;TZID=UTC:20250506T153000
DTEND;TZID=UTC:20250506T163000
SUMMARY:Qu\'est-ce que la Vérité ?
DESCRIPTION:## Un dialogue philosophique, pas un débat

Dans un monde saturé d’opinions, où chacun semble sûr de ce qu’il pense, il devient urgent de réapprendre à chercher la vérité ensemble. Non pas à imposer une certitude, mais à faire l’expérience d’un doute fécond, d’une parole ouverte, d’une intelligence partagée.

Ce rendez-vous est une tentative simple : dialoguer philosophiquement autour de la question : « Qu’est-ce que la vérité ? » Sans polémique, sans posture, sans volonté de vaincre. Seulement le désir de comprendre, ensemble.
Vérité scientifique, vérité révélée, vérité vécue

## Une exploration à plusieurs voix

Nous partirons de différentes traditions :
- La vérité comme adéquation (héritée du latin veritas) ;
- La vérité comme dévoilement (alètheia, chez les Grecs) ;
- Et les conceptions modernes : Popper, la falsifiabilité, la foi dans le discours scientifique.
Mais plus encore que les doctrines, ce sont les chemins d’accès à la vérité qui nous intéressent : comment savons-nous ce que nous disons savoir ? Comment distinguer connaissance, croyance, et illusion ?

## Un espace rare : penser sans s’affronter
Venez écouter, questionner, chercher

Si vous avez envie d’un moment de calme, de lenteur, et de pensée sincère – vous êtes bienvenu.
Il ne s’agit pas d’avoir raison, mais de s’autoriser à penser autrement, penser ensemble.\n\nLien de la visioconférence : https://teams.microsoft.com/l/meetup-join/19%3ameeting_N2EzNGQ4MjEtYjM5MS00OWEzLWIxNmItNzFiZjg2MzMzN2Nj%40thread.v2/0?context=%7b%22Tid%22%3a%229fb510eb-f4c0-4e4d-8dc2-4c2aeeddde2d%22%2c%22Oid%22%3a%22ff13904b-5746-4a90-adcc-9dbebf107ebe%22%7d
LOCATION:https://teams.microsoft.com/l/meetup-join/19%3ameeting_N2EzNGQ4MjEtYjM5MS00OWEzLWIxNmItNzFiZjg2MzMzN2Nj%40thread.v2/0?context=%7b%22Tid%22%3a%229fb510eb-f4c0-4e4d-8dc2-4c2aeeddde2d%22%2c%22Oid%22%3a%22ff13904b-5746-4a90-adcc-9dbebf107ebe%22%7d
END:VEVENT
END:VCALENDAR
