BEGIN:VCALENDAR
VERSION:2.0
PRODID:-//YourAppName//NONSGML v1.0//EN
BEGIN:VEVENT
UID:69e79a378dbc0@yourapp.com
DTSTAMP:20260421T153935Z
TZID:UTC
DTSTART;TZID=UTC:20250201T150000
DTEND;TZID=UTC:20250201T180000
SUMMARY:IA
DESCRIPTION:Partager les dernières nouveautés autour de l\'IA
END:VEVENT
END:VCALENDAR
