BEGIN:VCALENDAR
VERSION:2.0
PRODID:-//YourAppName//NONSGML v1.0//EN
BEGIN:VEVENT
UID:69e7882f3d320@yourapp.com
DTSTAMP:20260421T142239Z
TZID:UTC
DTSTART;TZID=UTC:20260213T100000
DTEND;TZID=UTC:20260213T110000
SUMMARY:A.G. Annuelle Koru Conseil
DESCRIPTION:# Ordre du jour :

- Rapport moral
- Rapport financier
- Prévisions 2026\n\nLien de la visioconférence : https://teams.microsoft.com/l/meetup-join/19%3ameeting_ODAzNjQ1OGUtMDY5NC00MmUyLWI4NGEtYWY3M2M3ODIwODMy%40thread.v2/0?context=%7b%22Tid%22%3a%229fb510eb-f4c0-4e4d-8dc2-4c2aeeddde2d%22%2c%22Oid%22%3a%22ff13904b-5746-4a90-adcc-9dbebf107ebe%22%7d
LOCATION:https://teams.microsoft.com/l/meetup-join/19%3ameeting_ODAzNjQ1OGUtMDY5NC00MmUyLWI4NGEtYWY3M2M3ODIwODMy%40thread.v2/0?context=%7b%22Tid%22%3a%229fb510eb-f4c0-4e4d-8dc2-4c2aeeddde2d%22%2c%22Oid%22%3a%22ff13904b-5746-4a90-adcc-9dbebf107ebe%22%7d
END:VEVENT
END:VCALENDAR
