BEGIN:VCALENDAR
VERSION:2.0
PRODID:-//YourAppName//NONSGML v1.0//EN
BEGIN:VEVENT
UID:69e7897057a08@yourapp.com
DTSTAMP:20260421T142800Z
TZID:UTC
DTSTART;TZID=UTC:20250313T173000
DTEND;TZID=UTC:20250313T190000
SUMMARY:Coopération entre Koru Conseil et les Cercles en Communs via Symposion
DESCRIPTION:Cette réunion vise à répondre aux questions soulevées sur le rôle de Koru Conseil dans la facilitation numérique des Cercles en Communs et sur l\'évolution de l\'application **Symposion**.

Nous aborderons trois grands axes :
1️⃣ **Rôle de Koru Conseil** : Contribution possible au-delà du développement de Symposion (publications, relais d’articles, etc.).
2️⃣ **Modèle et gouvernance de Symposion** : Économie du projet, collaboration technique, licence, et éventualité d\'un passage en open-source.
3️⃣ **Mise en coopération** : Objectifs pour les six prochains mois, intégration de fonctionnalités comme la gestion des inscriptions aux Cercles, et perspectives de collaboration à long terme.

L’objectif est de clarifier les attentes et d’explorer des pistes concrètes pour renforcer notre synergie.\n\nLien de la visioconférence : https://teams.microsoft.com/l/meetup-join/19%3ameeting_OWViNWZjNTItNGNlMi00NTcxLWE1MjEtNGFmOGZmMmZjOTE2%40thread.v2/0?context=%7b%22Tid%22%3a%229fb510eb-f4c0-4e4d-8dc2-4c2aeeddde2d%22%2c%22Oid%22%3a%22ff13904b-5746-4a90-adcc-9dbebf107ebe%22%7d
LOCATION:https://teams.microsoft.com/l/meetup-join/19%3ameeting_OWViNWZjNTItNGNlMi00NTcxLWE1MjEtNGFmOGZmMmZjOTE2%40thread.v2/0?context=%7b%22Tid%22%3a%229fb510eb-f4c0-4e4d-8dc2-4c2aeeddde2d%22%2c%22Oid%22%3a%22ff13904b-5746-4a90-adcc-9dbebf107ebe%22%7d
END:VEVENT
END:VCALENDAR
