BEGIN:VCALENDAR
VERSION:2.0
PRODID:-//YourAppName//NONSGML v1.0//EN
BEGIN:VEVENT
UID:69e79d422ca97@yourapp.com
DTSTAMP:20260421T155234Z
TZID:UTC
DTSTART;TZID=UTC:20250227T173000
DTEND;TZID=UTC:20250227T190000
SUMMARY:Comment savoir ce qui intéresse vraiment votre audience sur LinkedIn ?
DESCRIPTION:## 🚀 Pourquoi cette réunion ?
Publier sur LinkedIn, c’est facile. Mais capter l’attention et générer des discussions pertinentes, c’est une autre histoire. Beaucoup d’auteurs écrivent sur ce qui les intéresse personnellement, mais peu se préoccupent de ce qui intrigue réellement leur réseau.

Et si nous changions d’approche ? Plutôt que d’écrire dans le vide, essayons de **mieux comprendre les préoccupations réelles de notre audience** pour produire des contenus plus engageants.

Lors de cette réunion interactive, nous allons tester une nouvelle approche collaborative.
## 📌 Les sujets abordés
Nous discuterons notamment de :
- **Pourquoi la majorité des posts LinkedIn restent invisibles ou sans engagement**
- **Comment identifier ce qui résonne vraiment chez son audience**
- **Quels formats et styles de publication attirent le plus de réactions**
- **Faut-il interagir différemment avec son réseau pour mieux comprendre ses attentes ?**
- **Comment exploiter les retours de la communauté pour améliorer sa communication ?**
## 🔍 Objectif de la réunion
Nous ne chercherons pas à donner des recettes toutes faites, mais à explorer ensemble :
- **Les meilleures pratiques pour capter les préoccupations de son audience**
- **Des méthodes pour structurer ses publications différemment**
- **L’impact des interactions sur la perception de vos posts**

Une synthèse des échanges sera publiée sur Symposion après la réunion.
**📢 Venez échanger vos idées et affiner ensemble une stratégie de contenu efficace sur LinkedIn !**\n\nLien de la visioconférence : https://teams.microsoft.com/l/meetup-join/19%3ameeting_MGRlOWJkMzMtOTVhMS00OTVlLWE1MWYtMDA0MjNkM2VhYTYy%40thread.v2/0?context=%7b%22Tid%22%3a%229fb510eb-f4c0-4e4d-8dc2-4c2aeeddde2d%22%2c%22Oid%22%3a%22ff13904b-5746-4a90-adcc-9dbebf107ebe%22%7d
LOCATION:https://teams.microsoft.com/l/meetup-join/19%3ameeting_MGRlOWJkMzMtOTVhMS00OTVlLWE1MWYtMDA0MjNkM2VhYTYy%40thread.v2/0?context=%7b%22Tid%22%3a%229fb510eb-f4c0-4e4d-8dc2-4c2aeeddde2d%22%2c%22Oid%22%3a%22ff13904b-5746-4a90-adcc-9dbebf107ebe%22%7d
END:VEVENT
END:VCALENDAR
